Package: HarmonizR Version: 1.2.0 Command: /Library/Frameworks/R.framework/Resources/bin/R CMD check --install=check:HarmonizR.install-out.txt --library=/Library/Frameworks/R.framework/Resources/library --no-vignettes --timings HarmonizR_1.2.0.tar.gz StartedAt: 2024-10-18 00:18:12 -0400 (Fri, 18 Oct 2024) EndedAt: 2024-10-18 00:19:16 -0400 (Fri, 18 Oct 2024) EllapsedTime: 64.1 seconds RetCode: 0 Status: OK CheckDir: HarmonizR.Rcheck Warnings: 0