Package: HarmonizR Version: 1.2.0 Command: rm -rf HarmonizR.buildbin-libdir && mkdir HarmonizR.buildbin-libdir && /Users/biocbuild/BBS/utils/build-universal.sh HarmonizR_1.2.0.tar.gz /Library/Frameworks/R.framework/Resources/bin/R HarmonizR.buildbin-libdir StartedAt: 2024-10-18 18:53:16 -0400 (Fri, 18 Oct 2024) EndedAt: 2024-10-18 18:53:21 -0400 (Fri, 18 Oct 2024) EllapsedTime: 4.6 seconds RetCode: 0 Status: OK PackageFile: HarmonizR_1.2.0.tgz PackageFileSize: 92.01 KiB