Package: Harman Version: 1.32.0 Command: rm -rf Harman.buildbin-libdir && mkdir Harman.buildbin-libdir && E:\biocbuild\bbs-3.19-bioc\R\bin\R.exe CMD INSTALL --build --library=Harman.buildbin-libdir Harman_1.32.0.tar.gz StartedAt: 2024-10-17 07:56:19 -0400 (Thu, 17 Oct 2024) EndedAt: 2024-10-17 07:57:46 -0400 (Thu, 17 Oct 2024) EllapsedTime: 87.3 seconds RetCode: 0 Status: OK PackageFile: Harman_1.32.0.zip PackageFileSize: 1.18 MiB