Package: Harman Version: 1.32.0 Command: /Library/Frameworks/R.framework/Resources/bin/R CMD check --install=check:Harman.install-out.txt --library=/Library/Frameworks/R.framework/Resources/library --no-vignettes --timings Harman_1.32.0.tar.gz StartedAt: 2024-10-17 06:31:42 -0400 (Thu, 17 Oct 2024) EndedAt: 2024-10-17 06:34:04 -0400 (Thu, 17 Oct 2024) EllapsedTime: 142.1 seconds RetCode: 0 Status: OK CheckDir: Harman.Rcheck Warnings: 0