Package: Harman Version: 1.32.0 Command: /Library/Frameworks/R.framework/Resources/bin/R CMD INSTALL Harman StartedAt: 2024-06-09 15:09:42 -0400 (Sun, 09 Jun 2024) EndedAt: 2024-06-09 15:09:56 -0400 (Sun, 09 Jun 2024) EllapsedTime: 13.8 seconds RetCode: 0 Status: OK