Package: Harman Version: 1.32.0 Command: /Library/Frameworks/R.framework/Resources/bin/R CMD check --install=check:Harman.install-out.txt --library=/Library/Frameworks/R.framework/Resources/library --no-vignettes --timings Harman_1.32.0.tar.gz StartedAt: 2024-06-10 18:18:34 -0400 (Mon, 10 Jun 2024) EndedAt: 2024-06-10 18:21:09 -0400 (Mon, 10 Jun 2024) EllapsedTime: 154.7 seconds RetCode: 0 Status: OK CheckDir: Harman.Rcheck Warnings: 0