Package: Harman Version: 1.32.0 Command: /Library/Frameworks/R.framework/Resources/bin/R CMD build --keep-empty-dirs --no-resave-data Harman StartedAt: 2024-06-09 22:46:12 -0400 (Sun, 09 Jun 2024) EndedAt: 2024-06-09 22:50:21 -0400 (Sun, 09 Jun 2024) EllapsedTime: 249.2 seconds RetCode: 0 Status: OK PackageFile: Harman_1.32.0.tar.gz PackageFileSize: 2.121 MiB