Package: HTqPCR Version: 1.58.0 Command: E:\biocbuild\bbs-3.19-bioc\R\bin\R.exe CMD INSTALL HTqPCR StartedAt: 2024-10-16 16:05:36 -0400 (Wed, 16 Oct 2024) EndedAt: 2024-10-16 16:06:09 -0400 (Wed, 16 Oct 2024) EllapsedTime: 32.8 seconds RetCode: 0 Status: OK