Package: HTqPCR Version: 1.58.0 Command: chmod a+r HTqPCR -R && E:\biocbuild\bbs-3.19-bioc\R\bin\R.exe CMD build --keep-empty-dirs --no-resave-data HTqPCR StartedAt: 2024-10-16 19:44:02 -0400 (Wed, 16 Oct 2024) EndedAt: 2024-10-16 19:44:23 -0400 (Wed, 16 Oct 2024) EllapsedTime: 21.0 seconds RetCode: 1 Status: ERROR PackageFile: None PackageFileSize: NA