Package: HTqPCR Version: 1.58.0 Command: F:\biocbuild\bbs-3.19-bioc\R\bin\R.exe CMD INSTALL HTqPCR StartedAt: 2024-06-26 15:45:06 -0400 (Wed, 26 Jun 2024) EndedAt: 2024-06-26 15:45:29 -0400 (Wed, 26 Jun 2024) EllapsedTime: 23.0 seconds RetCode: 0 Status: OK