Package: HTqPCR Version: 1.57.0 Command: rm -rf HTqPCR.buildbin-libdir && mkdir HTqPCR.buildbin-libdir && F:\biocbuild\bbs-3.19-bioc\R\bin\R.exe CMD INSTALL --build --library=HTqPCR.buildbin-libdir HTqPCR_1.57.0.tar.gz StartedAt: 2024-03-05 10:33:43 -0500 (Tue, 05 Mar 2024) EndedAt: 2024-03-05 10:34:20 -0500 (Tue, 05 Mar 2024) EllapsedTime: 36.8 seconds RetCode: 0 Status: OK PackageFile: HTqPCR_1.57.0.zip PackageFileSize: 2.288 MiB