Package: HTqPCR Version: 1.57.0 Command: /home/biocbuild/bbs-3.19-bioc/R/bin/R CMD check --install=check:HTqPCR.install-out.txt --library=/home/biocbuild/bbs-3.19-bioc/R/site-library --timings HTqPCR_1.57.0.tar.gz StartedAt: 2024-03-06 23:09:18 -0500 (Wed, 06 Mar 2024) EndedAt: 2024-03-06 23:10:11 -0500 (Wed, 06 Mar 2024) EllapsedTime: 52.9 seconds RetCode: 0 Status: OK CheckDir: HTqPCR.Rcheck Warnings: 0