Package: HTqPCR Version: 1.58.0 Command: /Library/Frameworks/R.framework/Resources/bin/R CMD INSTALL HTqPCR StartedAt: 2024-10-16 15:11:55 -0400 (Wed, 16 Oct 2024) EndedAt: 2024-10-16 15:12:15 -0400 (Wed, 16 Oct 2024) EllapsedTime: 19.9 seconds RetCode: 0 Status: OK