Package: HTqPCR Version: 1.57.0 Command: /Library/Frameworks/R.framework/Resources/bin/R CMD check --install=check:HTqPCR.install-out.txt --library=/Library/Frameworks/R.framework/Resources/library --no-vignettes --timings HTqPCR_1.57.0.tar.gz StartedAt: 2024-03-02 05:22:30 -0500 (Sat, 02 Mar 2024) EndedAt: 2024-03-02 05:24:17 -0500 (Sat, 02 Mar 2024) EllapsedTime: 107.7 seconds RetCode: 0 Status: OK CheckDir: HTqPCR.Rcheck Warnings: 0