Package: HTqPCR Version: 1.58.0 Command: /home/biocbuild/R/R-beta-2024-04-15_r86425/bin/R CMD build --keep-empty-dirs --no-resave-data HTqPCR StartedAt: 2024-05-09 00:59:59 -0000 (Thu, 09 May 2024) EndedAt: 2024-05-09 01:00:15 -0000 (Thu, 09 May 2024) EllapsedTime: 16.0 seconds RetCode: 1 Status: ERROR PackageFile: None PackageFileSize: NA