Package: HTqPCR Version: 1.58.0 Maintainer: Heidi Dvinge MaintainerEmail: hdvinge at fredhutch.org git_url: https://git.bioconductor.org/packages/HTqPCR git_branch: RELEASE_3_19 git_last_commit: aa91164 git_last_commit_date: 2024-04-30 10:20:52 -0400 (Tue, 30 Apr 2024)