Package: HPiP Version: 1.10.0 Command: E:\biocbuild\bbs-3.19-bioc\R\bin\R.exe CMD INSTALL HPiP StartedAt: 2024-10-16 17:07:14 -0400 (Wed, 16 Oct 2024) EndedAt: 2024-10-16 17:07:34 -0400 (Wed, 16 Oct 2024) EllapsedTime: 20.7 seconds RetCode: 0 Status: OK