Package: HPiP Version: 1.10.0 Command: chmod a+r HPiP -R && E:\biocbuild\bbs-3.19-bioc\R\bin\R.exe CMD build --keep-empty-dirs --no-resave-data HPiP StartedAt: 2024-10-16 19:43:52 -0400 (Wed, 16 Oct 2024) EndedAt: 2024-10-16 19:52:34 -0400 (Wed, 16 Oct 2024) EllapsedTime: 521.7 seconds RetCode: 0 Status: OK PackageFile: HPiP_1.10.0.tar.gz PackageFileSize: 2.612 MiB