Package: HPiP Version: 1.10.0 Command: /Library/Frameworks/R.framework/Resources/bin/R CMD build --keep-empty-dirs --no-resave-data HPiP StartedAt: 2024-06-09 23:00:40 -0400 (Sun, 09 Jun 2024) EndedAt: 2024-06-09 23:16:04 -0400 (Sun, 09 Jun 2024) EllapsedTime: 923.4 seconds RetCode: 0 Status: OK PackageFile: HPiP_1.10.0.tar.gz PackageFileSize: 4.572 MiB