Package: HPiP Version: 1.10.0 Command: /Library/Frameworks/R.framework/Resources/bin/R CMD build --keep-empty-dirs --no-resave-data HPiP StartedAt: 2024-10-17 02:30:48 -0400 (Thu, 17 Oct 2024) EndedAt: 2024-10-17 02:47:41 -0400 (Thu, 17 Oct 2024) EllapsedTime: 1013.1 seconds RetCode: 0 Status: OK PackageFile: HPiP_1.10.0.tar.gz PackageFileSize: 4.572 MiB