Package: HPAanalyze Version: 1.22.0 Command: /home/biocbuild/bbs-3.19-bioc/R/bin/R CMD build --keep-empty-dirs --no-resave-data HPAanalyze StartedAt: 2024-10-16 18:59:29 -0400 (Wed, 16 Oct 2024) EndedAt: 2024-10-16 19:00:08 -0400 (Wed, 16 Oct 2024) EllapsedTime: 39.2 seconds RetCode: 0 Status: OK PackageFile: HPAanalyze_1.22.0.tar.gz PackageFileSize: 6.721 MiB