Package: HPAanalyze Version: 1.22.0 Command: /Library/Frameworks/R.framework/Resources/bin/R CMD INSTALL HPAanalyze StartedAt: 2024-10-16 16:43:02 -0400 (Wed, 16 Oct 2024) EndedAt: 2024-10-16 16:44:15 -0400 (Wed, 16 Oct 2024) EllapsedTime: 73.0 seconds RetCode: 0 Status: OK