Package: HPAanalyze Version: 1.22.0 Command: /Library/Frameworks/R.framework/Resources/bin/R CMD INSTALL HPAanalyze StartedAt: 2024-10-16 18:41:58 -0400 (Wed, 16 Oct 2024) EndedAt: 2024-10-16 18:42:40 -0400 (Wed, 16 Oct 2024) EllapsedTime: 41.6 seconds RetCode: 0 Status: OK