Package: HMMcopy Version: 1.46.0 Command: rm -rf HMMcopy.buildbin-libdir && mkdir HMMcopy.buildbin-libdir && E:\biocbuild\bbs-3.19-bioc\R\bin\R.exe CMD INSTALL --build --library=HMMcopy.buildbin-libdir HMMcopy_1.46.0.tar.gz StartedAt: 2024-10-17 07:57:49 -0400 (Thu, 17 Oct 2024) EndedAt: 2024-10-17 07:58:02 -0400 (Thu, 17 Oct 2024) EllapsedTime: 12.9 seconds RetCode: 0 Status: OK PackageFile: HMMcopy_1.46.0.zip PackageFileSize: 1.299 MiB