Package: HMMcopy Version: 1.46.0 Command: chmod a+r HMMcopy -R && F:\biocbuild\bbs-3.19-bioc\R\bin\R.exe CMD build --keep-empty-dirs --no-resave-data HMMcopy StartedAt: 2024-06-26 19:29:28 -0400 (Wed, 26 Jun 2024) EndedAt: 2024-06-26 19:30:01 -0400 (Wed, 26 Jun 2024) EllapsedTime: 33.2 seconds RetCode: 0 Status: OK PackageFile: HMMcopy_1.46.0.tar.gz PackageFileSize: 1.24 MiB