Package: HMMcopy Version: 1.46.0 Command: /home/biocbuild/R/R-beta-2024-04-15_r86425/bin/R CMD build --keep-empty-dirs --no-resave-data HMMcopy StartedAt: 2024-05-09 00:59:15 -0000 (Thu, 09 May 2024) EndedAt: 2024-05-09 00:59:32 -0000 (Thu, 09 May 2024) EllapsedTime: 17.0 seconds RetCode: 0 Status: OK PackageFile: HMMcopy_1.46.0.tar.gz PackageFileSize: 1.882 MiB