Package: HMMcopy Version: 1.46.0 Command: /Library/Frameworks/R.framework/Resources/bin/R CMD check --install=check:HMMcopy.install-out.txt --library=/Library/Frameworks/R.framework/Resources/library --no-vignettes --timings HMMcopy_1.46.0.tar.gz StartedAt: 2024-10-18 00:43:38 -0400 (Fri, 18 Oct 2024) EndedAt: 2024-10-18 00:44:19 -0400 (Fri, 18 Oct 2024) EllapsedTime: 40.2 seconds RetCode: 0 Status: WARNINGS CheckDir: HMMcopy.Rcheck Warnings: 1