Package: HMMcopy Version: 1.46.0 Command: rm -rf HMMcopy.buildbin-libdir && mkdir HMMcopy.buildbin-libdir && /Users/biocbuild/BBS/utils/build-universal.sh HMMcopy_1.46.0.tar.gz /Library/Frameworks/R.framework/Resources/bin/R HMMcopy.buildbin-libdir StartedAt: 2024-10-18 18:56:24 -0400 (Fri, 18 Oct 2024) EndedAt: 2024-10-18 18:56:32 -0400 (Fri, 18 Oct 2024) EllapsedTime: 8.0 seconds RetCode: 0 Status: OK PackageFile: HMMcopy_1.46.0.tgz PackageFileSize: 1.827 MiB