Package: HIREewas Version: 1.22.0 Command: rm -rf HIREewas.buildbin-libdir && mkdir HIREewas.buildbin-libdir && /Users/biocbuild/BBS/utils/build-universal.sh HIREewas_1.22.0.tar.gz /Library/Frameworks/R.framework/Resources/bin/R HIREewas.buildbin-libdir StartedAt: 2024-10-17 16:21:54 -0400 (Thu, 17 Oct 2024) EndedAt: 2024-10-17 16:22:03 -0400 (Thu, 17 Oct 2024) EllapsedTime: 9.5 seconds RetCode: 0 Status: OK PackageFile: HIREewas_1.22.0.tgz PackageFileSize: 281.8 KiB