Package: HIPPO Version: 1.16.0 Command: chmod a+r HIPPO -R && E:\biocbuild\bbs-3.19-bioc\R\bin\R.exe CMD build --keep-empty-dirs --no-resave-data HIPPO StartedAt: 2024-10-16 19:42:33 -0400 (Wed, 16 Oct 2024) EndedAt: 2024-10-16 19:43:21 -0400 (Wed, 16 Oct 2024) EllapsedTime: 47.9 seconds RetCode: 0 Status: OK PackageFile: HIPPO_1.16.0.tar.gz PackageFileSize: 508.1 KiB