Package: HIPPO Version: 1.16.0 Command: rm -rf HIPPO.buildbin-libdir && mkdir HIPPO.buildbin-libdir && F:\biocbuild\bbs-3.19-bioc\R\bin\R.exe CMD INSTALL --build --library=HIPPO.buildbin-libdir HIPPO_1.16.0.tar.gz StartedAt: 2024-06-27 08:21:16 -0400 (Thu, 27 Jun 2024) EndedAt: 2024-06-27 08:22:09 -0400 (Thu, 27 Jun 2024) EllapsedTime: 53.4 seconds RetCode: 0 Status: OK PackageFile: HIPPO_1.16.0.zip PackageFileSize: 825.8 KiB