Package: HIPPO Version: 1.16.0 Command: /Library/Frameworks/R.framework/Resources/bin/R CMD check --install=check:HIPPO.install-out.txt --library=/Library/Frameworks/R.framework/Resources/library --no-vignettes --timings HIPPO_1.16.0.tar.gz StartedAt: 2024-06-09 20:54:54 -0400 (Sun, 09 Jun 2024) EndedAt: 2024-06-09 20:58:20 -0400 (Sun, 09 Jun 2024) EllapsedTime: 205.7 seconds RetCode: 0 Status: OK CheckDir: HIPPO.Rcheck Warnings: 0