Package: HIPPO Version: 1.16.0 Command: /Library/Frameworks/R.framework/Resources/bin/R CMD check --install=check:HIPPO.install-out.txt --library=/Library/Frameworks/R.framework/Resources/library --no-vignettes --timings HIPPO_1.16.0.tar.gz StartedAt: 2024-06-10 18:39:15 -0400 (Mon, 10 Jun 2024) EndedAt: 2024-06-10 18:45:02 -0400 (Mon, 10 Jun 2024) EllapsedTime: 346.3 seconds RetCode: 0 Status: OK CheckDir: HIPPO.Rcheck Warnings: 0