Package: HIPPO Version: 1.16.0 Command: rm -rf HIPPO.buildbin-libdir && mkdir HIPPO.buildbin-libdir && /Users/biocbuild/BBS/utils/build-universal.sh HIPPO_1.16.0.tar.gz /Library/Frameworks/R.framework/Resources/bin/R HIPPO.buildbin-libdir StartedAt: 2024-06-11 11:36:27 -0400 (Tue, 11 Jun 2024) EndedAt: 2024-06-11 11:37:22 -0400 (Tue, 11 Jun 2024) EllapsedTime: 54.3 seconds RetCode: 0 Status: OK PackageFile: HIPPO_1.16.0.tgz PackageFileSize: 1.004 MiB