Package: HIPPO Version: 1.16.0 Command: /Library/Frameworks/R.framework/Resources/bin/R CMD build --keep-empty-dirs --no-resave-data HIPPO StartedAt: 2024-10-17 02:28:12 -0400 (Thu, 17 Oct 2024) EndedAt: 2024-10-17 02:29:04 -0400 (Thu, 17 Oct 2024) EllapsedTime: 51.8 seconds RetCode: 0 Status: OK PackageFile: HIPPO_1.16.0.tar.gz PackageFileSize: 646.6 KiB