Package: HIPPO Version: 1.16.0 Maintainer: Tae Kim MaintainerEmail: tk382 at uchicago.edu git_url: https://git.bioconductor.org/packages/HIPPO git_branch: RELEASE_3_19 git_last_commit: 1e26583 git_last_commit_date: 2024-04-30 11:22:22 -0400 (Tue, 30 Apr 2024)