Package: HIBAG Version: 1.40.0 Command: rm -rf HIBAG.buildbin-libdir && mkdir HIBAG.buildbin-libdir && E:\biocbuild\bbs-3.19-bioc\R\bin\R.exe CMD INSTALL --build --library=HIBAG.buildbin-libdir HIBAG_1.40.0.tar.gz StartedAt: 2024-10-17 07:57:00 -0400 (Thu, 17 Oct 2024) EndedAt: 2024-10-17 07:58:32 -0400 (Thu, 17 Oct 2024) EllapsedTime: 91.6 seconds RetCode: 0 Status: OK PackageFile: HIBAG_1.40.0.zip PackageFileSize: 1.998 MiB