Package: HGC Version: 1.12.0 Command: /home/biocbuild/bbs-3.19-bioc/R/bin/R CMD build --keep-empty-dirs --no-resave-data HGC StartedAt: 2024-10-16 18:55:45 -0400 (Wed, 16 Oct 2024) EndedAt: 2024-10-16 18:56:29 -0400 (Wed, 16 Oct 2024) EllapsedTime: 44.1 seconds RetCode: 0 Status: OK PackageFile: HGC_1.12.0.tar.gz PackageFileSize: 515.3 KiB