Package: HGC Version: 1.12.0 Command: /Library/Frameworks/R.framework/Resources/bin/R CMD INSTALL HGC StartedAt: 2024-10-16 15:46:41 -0400 (Wed, 16 Oct 2024) EndedAt: 2024-10-16 15:47:58 -0400 (Wed, 16 Oct 2024) EllapsedTime: 77.7 seconds RetCode: 0 Status: OK