Package: HGC Version: 1.12.0 Command: /home/biocbuild/R/R-beta-2024-04-15_r86425/bin/R CMD check --install=check:HGC.install-out.txt --library=/home/biocbuild/R/R-beta-2024-04-15_r86425/site-library --no-vignettes --timings HGC_1.12.0.tar.gz StartedAt: 2024-05-09 08:17:51 -0000 (Thu, 09 May 2024) EndedAt: 2024-05-09 08:22:44 -0000 (Thu, 09 May 2024) EllapsedTime: 292.6 seconds RetCode: 0 Status: WARNINGS CheckDir: HGC.Rcheck Warnings: 1