Package: HGC Version: 1.12.0 Command: /Library/Frameworks/R.framework/Resources/bin/R CMD INSTALL HGC StartedAt: 2024-10-16 16:54:25 -0400 (Wed, 16 Oct 2024) EndedAt: 2024-10-16 16:55:00 -0400 (Wed, 16 Oct 2024) EllapsedTime: 35.5 seconds RetCode: 0 Status: OK