Package: HGC Version: 1.12.0 Command: /Library/Frameworks/R.framework/Resources/bin/R CMD check --install=check:HGC.install-out.txt --library=/Library/Frameworks/R.framework/Resources/library --no-vignettes --timings HGC_1.12.0.tar.gz StartedAt: 2024-10-18 00:25:32 -0400 (Fri, 18 Oct 2024) EndedAt: 2024-10-18 00:29:11 -0400 (Fri, 18 Oct 2024) EllapsedTime: 219.0 seconds RetCode: 0 Status: WARNINGS CheckDir: HGC.Rcheck Warnings: 1