Package: HGC Version: 1.12.0 Command: /Library/Frameworks/R.framework/Resources/bin/R CMD build --keep-empty-dirs --no-resave-data HGC StartedAt: 2024-10-17 02:17:50 -0400 (Thu, 17 Oct 2024) EndedAt: 2024-10-17 02:18:47 -0400 (Thu, 17 Oct 2024) EllapsedTime: 57.9 seconds RetCode: 0 Status: OK PackageFile: HGC_1.12.0.tar.gz PackageFileSize: 540.2 KiB