Package: HERON Version: 1.2.0 Command: rm -rf HERON.buildbin-libdir && mkdir HERON.buildbin-libdir && E:\biocbuild\bbs-3.19-bioc\R\bin\R.exe CMD INSTALL --build --library=HERON.buildbin-libdir HERON_1.2.0.tar.gz StartedAt: 2024-10-17 07:56:52 -0400 (Thu, 17 Oct 2024) EndedAt: 2024-10-17 07:57:22 -0400 (Thu, 17 Oct 2024) EllapsedTime: 30.4 seconds RetCode: 0 Status: OK PackageFile: HERON_1.2.0.zip PackageFileSize: 1.075 MiB