Package: HERON Version: 1.2.0 Command: F:\biocbuild\bbs-3.19-bioc\R\bin\R.exe CMD check --no-multiarch --install=check:HERON.install-out.txt --library=F:\biocbuild\bbs-3.19-bioc\R\library --no-vignettes --timings HERON_1.2.0.tar.gz StartedAt: 2024-06-27 02:31:03 -0400 (Thu, 27 Jun 2024) EndedAt: 2024-06-27 02:37:33 -0400 (Thu, 27 Jun 2024) EllapsedTime: 389.6 seconds RetCode: 0 Status: OK CheckDir: HERON.Rcheck Warnings: 0