Package: HERON Version: 1.2.0 Command: chmod a+r HERON -R && F:\biocbuild\bbs-3.19-bioc\R\bin\R.exe CMD build --keep-empty-dirs --no-resave-data HERON StartedAt: 2024-06-26 19:27:22 -0400 (Wed, 26 Jun 2024) EndedAt: 2024-06-26 19:28:32 -0400 (Wed, 26 Jun 2024) EllapsedTime: 70.3 seconds RetCode: 0 Status: OK PackageFile: HERON_1.2.0.tar.gz PackageFileSize: 963.6 KiB