Package: HERON Version: 1.2.0 Command: rm -rf HERON.buildbin-libdir && mkdir HERON.buildbin-libdir && F:\biocbuild\bbs-3.19-bioc\R\bin\R.exe CMD INSTALL --build --library=HERON.buildbin-libdir HERON_1.2.0.tar.gz StartedAt: 2024-06-27 08:20:38 -0400 (Thu, 27 Jun 2024) EndedAt: 2024-06-27 08:21:10 -0400 (Thu, 27 Jun 2024) EllapsedTime: 31.7 seconds RetCode: 0 Status: OK PackageFile: HERON_1.2.0.zip PackageFileSize: 1.074 MiB