Package: HERON Version: 1.2.0 Command: /Library/Frameworks/R.framework/Resources/bin/R CMD check --install=check:HERON.install-out.txt --library=/Library/Frameworks/R.framework/Resources/library --no-vignettes --timings HERON_1.2.0.tar.gz StartedAt: 2024-10-17 06:34:24 -0400 (Thu, 17 Oct 2024) EndedAt: 2024-10-17 06:47:49 -0400 (Thu, 17 Oct 2024) EllapsedTime: 805.3 seconds RetCode: 0 Status: OK CheckDir: HERON.Rcheck Warnings: 0