Package: HERON Version: 1.2.0 Command: /Library/Frameworks/R.framework/Resources/bin/R CMD build --keep-empty-dirs --no-resave-data HERON StartedAt: 2024-10-16 19:57:14 -0400 (Wed, 16 Oct 2024) EndedAt: 2024-10-16 19:59:46 -0400 (Wed, 16 Oct 2024) EllapsedTime: 152.1 seconds RetCode: 0 Status: OK PackageFile: HERON_1.2.0.tar.gz PackageFileSize: 963.2 KiB