Package: HERON Version: 1.2.0 Command: /Library/Frameworks/R.framework/Resources/bin/R CMD build --keep-empty-dirs --no-resave-data HERON StartedAt: 2024-06-09 22:49:43 -0400 (Sun, 09 Jun 2024) EndedAt: 2024-06-09 22:51:10 -0400 (Sun, 09 Jun 2024) EllapsedTime: 87.1 seconds RetCode: 0 Status: OK PackageFile: HERON_1.2.0.tar.gz PackageFileSize: 963.5 KiB